BEGIN:VCALENDAR
VERSION:2.0
PRODID:-//Sabre//Sabre VObject 4.5.8//EN
CALSCALE:GREGORIAN
BEGIN:VEVENT
UID:sabre-vobject-5f5d748f-0889-4f32-a3e8-5462607297e1
DTSTAMP:20260419T223146Z
SUMMARY:Amateur Athletic Union (AAU) Basketball Tryouts: 6th Grade Boys
DESCRIPTION:
X-ALT-DESC:FMTTYPE=text/html:<!DOCTYPE HTML PUBLIC "-//W3C//DTD HTML 3.2//E
 N"><HTML></HTML>
CREATED;TZID=America/New_York:20250226T095910
URL;VALUE=URI:https://benning.armymwr.com/calendar/event
DTSTART;TZID=America/New_York:20250311T180000
DTEND;TZID=America/New_York:20250311T200000
SEQUENCE:0
END:VEVENT
END:VCALENDAR
