BEGIN:VCALENDAR
VERSION:2.0
PRODID:-//Sabre//Sabre VObject 4.5.8//EN
CALSCALE:GREGORIAN
BEGIN:VEVENT
UID:sabre-vobject-b1fb00ad-fc54-4674-a32b-c2e7eb4b5966
DTSTAMP:20260419T203405Z
SUMMARY:Leprechaun Leap Fun Run
DESCRIPTION:
X-ALT-DESC:FMTTYPE=text/html:<!DOCTYPE HTML PUBLIC "-//W3C//DTD HTML 3.2//E
 N"><HTML></HTML>
CREATED;TZID=America/New_York:20250226T090104
URL;VALUE=URI:https://benning.armymwr.com/calendar/event
DTSTART;TZID=America/New_York:20250312T173000
DTEND;TZID=America/New_York:20250312T190000
SEQUENCE:0
END:VEVENT
END:VCALENDAR
