BEGIN:VCALENDAR
VERSION:2.0
PRODID:-//Sabre//Sabre VObject 4.5.8//EN
CALSCALE:GREGORIAN
BEGIN:VEVENT
UID:sabre-vobject-c7bcdc03-9ff3-4778-899b-fa6054be80ce
DTSTAMP:20260425T105352Z
SUMMARY:Dinovember: T(ea)-Rex Tea Party
DESCRIPTION:
X-ALT-DESC:FMTTYPE=text/html:<!DOCTYPE HTML PUBLIC "-//W3C//DTD HTML 3.2//E
 N"><HTML></HTML>
CREATED;TZID=America/New_York:20241022T103214
URL;VALUE=URI:https://benning.armymwr.com/calendar/event
DTSTART;TZID=America/New_York:20241109T110000
DTEND;TZID=America/New_York:20241109T130000
SEQUENCE:0
END:VEVENT
END:VCALENDAR
