BEGIN:VCALENDAR
VERSION:2.0
PRODID:-//Sabre//Sabre VObject 4.5.8//EN
CALSCALE:GREGORIAN
BEGIN:VEVENT
UID:sabre-vobject-e6d5fd30-5bc4-489c-9d83-386ae632f426
DTSTAMP:20260424T050732Z
SUMMARY:Babysitting Basics Course
DESCRIPTION:
X-ALT-DESC:FMTTYPE=text/html:<!DOCTYPE HTML PUBLIC "-//W3C//DTD HTML 3.2//E
 N"><HTML></HTML>
CREATED;TZID=America/New_York:20240924T113331
URL;VALUE=URI:https://benning.armymwr.com/calendar/event
DTSTART;TZID=America/New_York:20241202T173000
DTEND;TZID=America/New_York:20241204T183000
SEQUENCE:0
END:VEVENT
END:VCALENDAR
