BEGIN:VCALENDAR
VERSION:2.0
PRODID:-//Sabre//Sabre VObject 4.5.8//EN
CALSCALE:GREGORIAN
BEGIN:VEVENT
UID:sabre-vobject-b2f8dad4-b1b9-4edb-bc24-fe456b25b897
DTSTAMP:20260425T170512Z
SUMMARY:Turkey Shoot
DESCRIPTION:
X-ALT-DESC:FMTTYPE=text/html:<!DOCTYPE HTML PUBLIC "-//W3C//DTD HTML 3.2//E
 N"><HTML></HTML>
CREATED;TZID=America/New_York:20241107T093049
URL;VALUE=URI:https://benning.armymwr.com/calendar/event
DTSTART;TZID=America/New_York:20241123T100000
DTEND;TZID=America/New_York:20241123T150000
SEQUENCE:0
END:VEVENT
END:VCALENDAR
