BEGIN:VCALENDAR
VERSION:2.0
PRODID:-//Sabre//Sabre VObject 4.5.8//EN
CALSCALE:GREGORIAN
BEGIN:VEVENT
UID:sabre-vobject-897a88fd-4d7a-4761-9ddd-78256f93ebe0
DTSTAMP:20260421T232334Z
SUMMARY:NRA Basic Pistol Course 
DESCRIPTION:
X-ALT-DESC:FMTTYPE=text/html:<!DOCTYPE HTML PUBLIC "-//W3C//DTD HTML 3.2//E
 N"><HTML></HTML>
CREATED;TZID=America/New_York:20240820T120255
URL;VALUE=URI:https://benning.armymwr.com/calendar/event
DTSTART;TZID=America/New_York:20240817T090000
DTEND;TZID=America/New_York:20240817T170000
SEQUENCE:0
END:VEVENT
BEGIN:VEVENT
UID:sabre-vobject-ffcc6ba2-90d9-4de7-a9f6-48e1998d6ea3
DTSTAMP:20260421T232334Z
SUMMARY:NRA Basic Pistol Course 
DESCRIPTION:
X-ALT-DESC:FMTTYPE=text/html:<!DOCTYPE HTML PUBLIC "-//W3C//DTD HTML 3.2//E
 N"><HTML></HTML>
CREATED;TZID=America/New_York:20240820T120255
URL;VALUE=URI:https://benning.armymwr.com/calendar/event
DTSTART;TZID=America/New_York:20240921T090000
DTEND;TZID=America/New_York:20240921T170000
SEQUENCE:1
END:VEVENT
BEGIN:VEVENT
UID:sabre-vobject-a508fb69-96bf-4dcd-9fcc-816d38be638d
DTSTAMP:20260421T232334Z
SUMMARY:NRA Basic Pistol Course 
DESCRIPTION:
X-ALT-DESC:FMTTYPE=text/html:<!DOCTYPE HTML PUBLIC "-//W3C//DTD HTML 3.2//E
 N"><HTML></HTML>
CREATED;TZID=America/New_York:20240820T120255
URL;VALUE=URI:https://benning.armymwr.com/calendar/event
DTSTART;TZID=America/New_York:20241012T090000
DTEND;TZID=America/New_York:20241012T170000
SEQUENCE:2
END:VEVENT
BEGIN:VEVENT
UID:sabre-vobject-d7354b54-c768-4730-82f5-cddd7c011a87
DTSTAMP:20260421T232334Z
SUMMARY:NRA Basic Pistol Course 
DESCRIPTION:
X-ALT-DESC:FMTTYPE=text/html:<!DOCTYPE HTML PUBLIC "-//W3C//DTD HTML 3.2//E
 N"><HTML></HTML>
CREATED;TZID=America/New_York:20240820T120255
URL;VALUE=URI:https://benning.armymwr.com/calendar/event
DTSTART;TZID=America/New_York:20241109T090000
DTEND;TZID=America/New_York:20241109T170000
SEQUENCE:3
END:VEVENT
BEGIN:VEVENT
UID:sabre-vobject-2eb0d29c-5ad4-43e9-96c5-4d79749605b8
DTSTAMP:20260421T232334Z
SUMMARY:NRA Basic Pistol Course 
DESCRIPTION:
X-ALT-DESC:FMTTYPE=text/html:<!DOCTYPE HTML PUBLIC "-//W3C//DTD HTML 3.2//E
 N"><HTML></HTML>
CREATED;TZID=America/New_York:20240820T120255
URL;VALUE=URI:https://benning.armymwr.com/calendar/event
DTSTART;TZID=America/New_York:20250125T090000
DTEND;TZID=America/New_York:20250125T170000
SEQUENCE:4
END:VEVENT
BEGIN:VEVENT
UID:sabre-vobject-f8a39c0b-cf6f-4edc-89e7-f5881a93b152
DTSTAMP:20260421T232334Z
SUMMARY:NRA Basic Pistol Course 
DESCRIPTION:
X-ALT-DESC:FMTTYPE=text/html:<!DOCTYPE HTML PUBLIC "-//W3C//DTD HTML 3.2//E
 N"><HTML></HTML>
CREATED;TZID=America/New_York:20240820T120255
URL;VALUE=URI:https://benning.armymwr.com/calendar/event
DTSTART;TZID=America/New_York:20250222T090000
DTEND;TZID=America/New_York:20250222T170000
SEQUENCE:5
END:VEVENT
END:VCALENDAR
