BEGIN:VCALENDAR
VERSION:2.0
PRODID:-//Sabre//Sabre VObject 4.5.8//EN
CALSCALE:GREGORIAN
BEGIN:VEVENT
UID:sabre-vobject-9064aab1-482b-4009-ad86-fda47fc8ee00
DTSTAMP:20260421T004123Z
SUMMARY:BOSS Skeet Shooting 101 with US Olympians
DESCRIPTION:
X-ALT-DESC:FMTTYPE=text/html:<!DOCTYPE HTML PUBLIC "-//W3C//DTD HTML 3.2//E
 N"><HTML></HTML>
CREATED;TZID=America/New_York:20210913T085212
URL;VALUE=URI:https://benning.armymwr.com/calendar/event
DTSTART;TZID=America/New_York:20210923T093000
DTEND;TZID=America/New_York:20210923T103000
SEQUENCE:0
END:VEVENT
END:VCALENDAR
