BEGIN:VCALENDAR
VERSION:2.0
PRODID:-//Sabre//Sabre VObject 4.5.8//EN
CALSCALE:GREGORIAN
BEGIN:VEVENT
UID:sabre-vobject-431fb9f3-f16e-4edf-be4f-727aa202b384
DTSTAMP:20260419T211721Z
SUMMARY:Zombie Shoot 
DESCRIPTION:
X-ALT-DESC:FMTTYPE=text/html:<!DOCTYPE HTML PUBLIC "-//W3C//DTD HTML 3.2//E
 N"><HTML></HTML>
CREATED;TZID=America/New_York:20211008T120805
URL;VALUE=URI:https://benning.armymwr.com/calendar/event
DTSTART;TZID=America/New_York:20211030T120000
DTEND;TZID=America/New_York:20211030T160000
SEQUENCE:0
END:VEVENT
END:VCALENDAR
