BEGIN:VCALENDAR
VERSION:2.0
PRODID:-//Sabre//Sabre VObject 4.5.8//EN
CALSCALE:GREGORIAN
BEGIN:VEVENT
UID:sabre-vobject-1574396e-eccb-44df-aeed-44457f6def69
DTSTAMP:20260425T005747Z
SUMMARY:Character Breakfast: Cancelled  
DESCRIPTION:
X-ALT-DESC:FMTTYPE=text/html:<!DOCTYPE HTML PUBLIC "-//W3C//DTD HTML 3.2//E
 N"><HTML></HTML>
CREATED;TZID=America/New_York:20210816T080242
URL;VALUE=URI:https://benning.armymwr.com/calendar/event
DTSTART;TZID=America/New_York:20210821T073000
DTEND;TZID=America/New_York:20210821T093000
SEQUENCE:0
END:VEVENT
BEGIN:VEVENT
UID:sabre-vobject-efb41bc1-7009-4e7d-9420-5b0a154f7983
DTSTAMP:20260425T005747Z
SUMMARY:Character Breakfast: Cancelled  
DESCRIPTION:
X-ALT-DESC:FMTTYPE=text/html:<!DOCTYPE HTML PUBLIC "-//W3C//DTD HTML 3.2//E
 N"><HTML></HTML>
CREATED;TZID=America/New_York:20210816T080242
URL;VALUE=URI:https://benning.armymwr.com/calendar/event
DTSTART;TZID=America/New_York:20210821T100000
DTEND;TZID=America/New_York:20210821T120000
SEQUENCE:1
END:VEVENT
END:VCALENDAR
