BEGIN:VCALENDAR
VERSION:2.0
PRODID:-//Sabre//Sabre VObject 4.5.8//EN
CALSCALE:GREGORIAN
BEGIN:VEVENT
UID:sabre-vobject-5dc3b45d-470a-49c5-af2e-78c2ea312ea1
DTSTAMP:20260425T165347Z
SUMMARY:Silent Bid Vehicle Auction
DESCRIPTION:
X-ALT-DESC:FMTTYPE=text/html:<!DOCTYPE HTML PUBLIC "-//W3C//DTD HTML 3.2//E
 N"><HTML></HTML>
CREATED;TZID=America/New_York:20210713T085709
URL;VALUE=URI:https://benning.armymwr.com/calendar/event
DTSTART;TZID=America/New_York:20210818T100000
DTEND;TZID=America/New_York:20210819T150000
SEQUENCE:0
END:VEVENT
END:VCALENDAR
