BEGIN:VCALENDAR
VERSION:2.0
PRODID:-//Sabre//Sabre VObject 4.5.8//EN
CALSCALE:GREGORIAN
BEGIN:VEVENT
UID:sabre-vobject-324377d5-12c2-4a84-9e77-1294643659cf
DTSTAMP:20260424T114644Z
SUMMARY:Casualty Response (CARE) Team Training
DESCRIPTION:
X-ALT-DESC:FMTTYPE=text/html:<!DOCTYPE HTML PUBLIC "-//W3C//DTD HTML 3.2//E
 N"><HTML></HTML>
CREATED;TZID=America/New_York:20210706T093110
URL;VALUE=URI:https://benning.armymwr.com/calendar/event
DTSTART;TZID=America/New_York:20210719T090000
DTEND;TZID=America/New_York:20210719T120000
SEQUENCE:0
END:VEVENT
END:VCALENDAR
