BEGIN:VCALENDAR
VERSION:2.0
PRODID:-//Sabre//Sabre VObject 4.5.8//EN
CALSCALE:GREGORIAN
BEGIN:VEVENT
UID:sabre-vobject-a47826d3-7ef0-405a-90ca-83a83654cb25
DTSTAMP:20260425T170511Z
SUMMARY:Life is Better at Benning Expo
DESCRIPTION:
X-ALT-DESC:FMTTYPE=text/html:<!DOCTYPE HTML PUBLIC "-//W3C//DTD HTML 3.2//E
 N"><HTML></HTML>
CREATED;TZID=America/New_York:20210720T080927
URL;VALUE=URI:https://benning.armymwr.com/calendar/event
DTSTART;TZID=America/New_York:20210813T090000
DTEND;TZID=America/New_York:20210813T130000
SEQUENCE:0
END:VEVENT
END:VCALENDAR
