BEGIN:VCALENDAR
VERSION:2.0
PRODID:-//Sabre//Sabre VObject 4.5.8//EN
CALSCALE:GREGORIAN
BEGIN:VEVENT
UID:sabre-vobject-c903e877-c680-457d-93bd-01ca8753cef6
DTSTAMP:20260425T025805Z
SUMMARY:Tumbling and Cheerleading Registration
DESCRIPTION:
X-ALT-DESC:FMTTYPE=text/html:<!DOCTYPE HTML PUBLIC "-//W3C//DTD HTML 3.2//E
 N"><HTML></HTML>
CREATED;TZID=America/New_York:20210628T151508
URL;VALUE=URI:https://benning.armymwr.com/calendar/event
DTSTART;TZID=America/New_York:20210701T000000
DTEND;TZID=America/New_York:20210730T235959
SEQUENCE:0
END:VEVENT
END:VCALENDAR
