BEGIN:VCALENDAR
VERSION:2.0
PRODID:-//Sabre//Sabre VObject 4.5.8//EN
CALSCALE:GREGORIAN
BEGIN:VEVENT
UID:sabre-vobject-eb031cb0-0fb4-4c18-88f3-cb671739d41e
DTSTAMP:20260422T084558Z
SUMMARY:Spouse Leadership Seminar
DESCRIPTION:
X-ALT-DESC:FMTTYPE=text/html:<!DOCTYPE HTML PUBLIC "-//W3C//DTD HTML 3.2//E
 N"><HTML></HTML>
CREATED;TZID=America/New_York:20210915T125849
URL;VALUE=URI:https://benning.armymwr.com/calendar/event
DTSTART;TZID=America/New_York:20211019T084500
DTEND;TZID=America/New_York:20211022T150000
SEQUENCE:0
END:VEVENT
END:VCALENDAR
