BEGIN:VCALENDAR
VERSION:2.0
PRODID:-//Sabre//Sabre VObject 4.5.8//EN
CALSCALE:GREGORIAN
BEGIN:VEVENT
UID:sabre-vobject-942f5e27-cbec-4d8d-9b82-108171b951b0
DTSTAMP:20260422T202134Z
SUMMARY:Spouse Hiring Event 
DESCRIPTION:
X-ALT-DESC:FMTTYPE=text/html:<!DOCTYPE HTML PUBLIC "-//W3C//DTD HTML 3.2//E
 N"><HTML></HTML>
CREATED;TZID=America/New_York:20210623T131656
URL;VALUE=URI:https://benning.armymwr.com/calendar/event
DTSTART;TZID=America/New_York:20210831T103000
DTEND;TZID=America/New_York:20210831T133000
SEQUENCE:0
END:VEVENT
END:VCALENDAR
