BEGIN:VCALENDAR
VERSION:2.0
PRODID:-//Sabre//Sabre VObject 4.5.8//EN
CALSCALE:GREGORIAN
BEGIN:VEVENT
UID:sabre-vobject-4e4cbf1a-5e3c-49cf-a947-8004ed8caa2d
DTSTAMP:20260423T111845Z
SUMMARY:Freddy vs. Jason Paintball Battle
DESCRIPTION:
X-ALT-DESC:FMTTYPE=text/html:<!DOCTYPE HTML PUBLIC "-//W3C//DTD HTML 3.2//E
 N"><HTML></HTML>
CREATED;TZID=America/New_York:20210810T125340
URL;VALUE=URI:https://benning.armymwr.com/calendar/event
DTSTART;TZID=America/New_York:20210813T180000
DTEND;TZID=America/New_York:20210813T200000
SEQUENCE:0
END:VEVENT
END:VCALENDAR
