BEGIN:VCALENDAR
VERSION:2.0
PRODID:-//Sabre//Sabre VObject 4.5.8//EN
CALSCALE:GREGORIAN
BEGIN:VEVENT
UID:sabre-vobject-e6af08bf-e028-4e20-a5f9-d4bc03109bf8
DTSTAMP:20260419T224233Z
SUMMARY:Parent to Parent Webinar Training
DESCRIPTION:
X-ALT-DESC:FMTTYPE=text/html:<!DOCTYPE HTML PUBLIC "-//W3C//DTD HTML 3.2//E
 N"><HTML></HTML>
CREATED;TZID=America/New_York:20210316T103946
URL;VALUE=URI:https://benning.armymwr.com/calendar/event
DTSTART;TZID=America/New_York:20211020T130000
DTEND;TZID=America/New_York:20211020T140000
SEQUENCE:0
END:VEVENT
END:VCALENDAR
