BEGIN:VCALENDAR
VERSION:2.0
PRODID:-//Sabre//Sabre VObject 4.5.8//EN
CALSCALE:GREGORIAN
BEGIN:VEVENT
UID:sabre-vobject-fae9db9e-a6a1-4ecf-bad3-7b004279c0ce
DTSTAMP:20260424T024353Z
SUMMARY:Summer Soaker 5K
DESCRIPTION:
X-ALT-DESC:FMTTYPE=text/html:<!DOCTYPE HTML PUBLIC "-//W3C//DTD HTML 3.2//E
 N"><HTML></HTML>
CREATED;TZID=America/New_York:20210303T150102
URL;VALUE=URI:https://benning.armymwr.com/calendar/event
DTSTART;TZID=America/New_York:20210731T080000
DTEND;TZID=America/New_York:20210731T090000
SEQUENCE:0
END:VEVENT
END:VCALENDAR
