BEGIN:VCALENDAR
VERSION:2.0
PRODID:-//Sabre//Sabre VObject 4.5.8//EN
CALSCALE:GREGORIAN
BEGIN:VEVENT
UID:sabre-vobject-dc2cf332-d801-4f00-ba6d-73e013e4de12
DTSTAMP:20260419T170431Z
SUMMARY:Military Spouse Appreciation Day
DESCRIPTION:
X-ALT-DESC:FMTTYPE=text/html:<!DOCTYPE HTML PUBLIC "-//W3C//DTD HTML 3.2//E
 N"><HTML></HTML>
CREATED;TZID=America/New_York:20260408T103933
URL;VALUE=URI:https://benning.armymwr.com/calendar/event
DTSTART;TZID=America/New_York:20260508T083000
DTEND;TZID=America/New_York:20260508T123000
SEQUENCE:0
END:VEVENT
END:VCALENDAR
