BEGIN:VCALENDAR
VERSION:2.0
PRODID:-//Sabre//Sabre VObject 4.5.8//EN
CALSCALE:GREGORIAN
BEGIN:VEVENT
UID:sabre-vobject-ffa929a6-a3c9-445c-8e5a-ca4123660483
DTSTAMP:20260420T121928Z
SUMMARY:Internet Safety with FAP & CID
DESCRIPTION:
X-ALT-DESC:FMTTYPE=text/html:<!DOCTYPE HTML PUBLIC "-//W3C//DTD HTML 3.2//E
 N"><HTML></HTML>
CREATED;TZID=America/New_York:20260304T113711
URL;VALUE=URI:https://benning.armymwr.com/calendar/event
DTSTART;TZID=America/New_York:20260428T150000
DTEND;TZID=America/New_York:20260428T163000
SEQUENCE:0
END:VEVENT
END:VCALENDAR
