BEGIN:VCALENDAR
VERSION:2.0
PRODID:-//Sabre//Sabre VObject 4.5.8//EN
CALSCALE:GREGORIAN
BEGIN:VEVENT
UID:sabre-vobject-ec733f9b-39d9-4c81-8088-d1c93bf573d8
DTSTAMP:20260422T070550Z
SUMMARY:Internet Safety with FAP & CID
DESCRIPTION:
X-ALT-DESC:FMTTYPE=text/html:<!DOCTYPE HTML PUBLIC "-//W3C//DTD HTML 3.2//E
 N"><HTML></HTML>
CREATED;TZID=America/New_York:20260304T112743
URL;VALUE=URI:https://benning.armymwr.com/calendar/event
DTSTART;TZID=America/New_York:20260304T150000
DTEND;TZID=America/New_York:20260304T163000
SEQUENCE:0
END:VEVENT
END:VCALENDAR
