BEGIN:VCALENDAR
VERSION:2.0
PRODID:-//Sabre//Sabre VObject 4.5.8//EN
CALSCALE:GREGORIAN
BEGIN:VEVENT
UID:sabre-vobject-d2d235c6-d8d5-4e70-929b-ec9f125e0bd5
DTSTAMP:20260420T154712Z
SUMMARY:Child Abuse Prevention: Wear Blue Day
DESCRIPTION:
X-ALT-DESC:FMTTYPE=text/html:<!DOCTYPE HTML PUBLIC "-//W3C//DTD HTML 3.2//E
 N"><HTML></HTML>
CREATED;TZID=America/New_York:20260304T112325
URL;VALUE=URI:https://benning.armymwr.com/calendar/event
DTSTART;TZID=America/New_York:20260408T000000
DTEND;TZID=America/New_York:20260408T235959
SEQUENCE:0
END:VEVENT
END:VCALENDAR
