BEGIN:VCALENDAR
VERSION:2.0
PRODID:-//Sabre//Sabre VObject 4.5.8//EN
CALSCALE:GREGORIAN
BEGIN:VEVENT
UID:sabre-vobject-0c7b41d5-af7d-4662-a7bc-65c09eca81be
DTSTAMP:20260422T102246Z
SUMMARY:Child Abuse Prevention Month Proclamation Signing
DESCRIPTION:
X-ALT-DESC:FMTTYPE=text/html:<!DOCTYPE HTML PUBLIC "-//W3C//DTD HTML 3.2//E
 N"><HTML></HTML>
CREATED;TZID=America/New_York:20260304T112200
URL;VALUE=URI:https://benning.armymwr.com/calendar/event
DTSTART;TZID=America/New_York:20260407T100000
DTEND;TZID=America/New_York:20260407T110000
SEQUENCE:0
END:VEVENT
END:VCALENDAR
