BEGIN:VCALENDAR
VERSION:2.0
PRODID:-//Sabre//Sabre VObject 4.5.8//EN
CALSCALE:GREGORIAN
BEGIN:VEVENT
UID:sabre-vobject-5b27b724-b49d-4867-b6d8-2ee627540bf6
DTSTAMP:20260422T102247Z
SUMMARY:DJ Night at the IBar 
DESCRIPTION:
X-ALT-DESC:FMTTYPE=text/html:<!DOCTYPE HTML PUBLIC "-//W3C//DTD HTML 3.2//E
 N"><HTML></HTML>
CREATED;TZID=America/New_York:20260304T105949
URL;VALUE=URI:https://benning.armymwr.com/calendar/event
DTSTART;TZID=America/New_York:20260417T200000
DTEND;TZID=America/New_York:20260417T000000
SEQUENCE:0
END:VEVENT
BEGIN:VEVENT
UID:sabre-vobject-64784280-641f-4471-a5c5-783718ad1f6b
DTSTAMP:20260422T102247Z
SUMMARY:DJ Night at the IBar 
DESCRIPTION:
X-ALT-DESC:FMTTYPE=text/html:<!DOCTYPE HTML PUBLIC "-//W3C//DTD HTML 3.2//E
 N"><HTML></HTML>
CREATED;TZID=America/New_York:20260304T105949
URL;VALUE=URI:https://benning.armymwr.com/calendar/event
DTSTART;TZID=America/New_York:20260501T200000
DTEND;TZID=America/New_York:20260501T000000
SEQUENCE:1
END:VEVENT
BEGIN:VEVENT
UID:sabre-vobject-0d6192ad-196d-42a6-892d-940d542e28d4
DTSTAMP:20260422T102247Z
SUMMARY:DJ Night at the IBar 
DESCRIPTION:
X-ALT-DESC:FMTTYPE=text/html:<!DOCTYPE HTML PUBLIC "-//W3C//DTD HTML 3.2//E
 N"><HTML></HTML>
CREATED;TZID=America/New_York:20260304T105949
URL;VALUE=URI:https://benning.armymwr.com/calendar/event
DTSTART;TZID=America/New_York:20260612T200000
DTEND;TZID=America/New_York:20260612T000000
SEQUENCE:2
END:VEVENT
BEGIN:VEVENT
UID:sabre-vobject-2cb01a1f-ca83-460a-8fa2-8e47d6eb3026
DTSTAMP:20260422T102247Z
SUMMARY:DJ Night at the IBar 
DESCRIPTION:
X-ALT-DESC:FMTTYPE=text/html:<!DOCTYPE HTML PUBLIC "-//W3C//DTD HTML 3.2//E
 N"><HTML></HTML>
CREATED;TZID=America/New_York:20260304T105949
URL;VALUE=URI:https://benning.armymwr.com/calendar/event
DTSTART;TZID=America/New_York:20260821T200000
DTEND;TZID=America/New_York:20260821T000000
SEQUENCE:3
END:VEVENT
BEGIN:VEVENT
UID:sabre-vobject-63c1529d-ccd4-4de7-94ec-c64fa3fa09e6
DTSTAMP:20260422T102247Z
SUMMARY:DJ Night at the IBar 
DESCRIPTION:
X-ALT-DESC:FMTTYPE=text/html:<!DOCTYPE HTML PUBLIC "-//W3C//DTD HTML 3.2//E
 N"><HTML></HTML>
CREATED;TZID=America/New_York:20260304T105949
URL;VALUE=URI:https://benning.armymwr.com/calendar/event
DTSTART;TZID=America/New_York:20260918T200000
DTEND;TZID=America/New_York:20260918T000000
SEQUENCE:4
END:VEVENT
BEGIN:VEVENT
UID:sabre-vobject-01105e39-09c3-4df5-80fc-f8c55c86730a
DTSTAMP:20260422T102247Z
SUMMARY:DJ Night at the IBar 
DESCRIPTION:
X-ALT-DESC:FMTTYPE=text/html:<!DOCTYPE HTML PUBLIC "-//W3C//DTD HTML 3.2//E
 N"><HTML></HTML>
CREATED;TZID=America/New_York:20260304T105949
URL;VALUE=URI:https://benning.armymwr.com/calendar/event
DTSTART;TZID=America/New_York:20261024T200000
DTEND;TZID=America/New_York:20261024T000000
SEQUENCE:5
END:VEVENT
END:VCALENDAR
