BEGIN:VCALENDAR
VERSION:2.0
PRODID:-//Sabre//Sabre VObject 4.5.8//EN
CALSCALE:GREGORIAN
BEGIN:VEVENT
UID:sabre-vobject-d93b897d-df4b-4ac3-af3b-825cf77d4803
DTSTAMP:20260424T082345Z
SUMMARY:3D Archery Tournament 
DESCRIPTION:
X-ALT-DESC:FMTTYPE=text/html:<!DOCTYPE HTML PUBLIC "-//W3C//DTD HTML 3.2//E
 N"><HTML></HTML>
CREATED;TZID=America/New_York:20260218T083246
URL;VALUE=URI:https://benning.armymwr.com/calendar/event
DTSTART;TZID=America/New_York:20260307T100000
DTEND;TZID=America/New_York:20260307T140000
SEQUENCE:0
END:VEVENT
BEGIN:VEVENT
UID:sabre-vobject-b2718ad2-c160-4db0-a2ab-556a4cf02a76
DTSTAMP:20260424T082345Z
SUMMARY:3D Archery Tournament 
DESCRIPTION:
X-ALT-DESC:FMTTYPE=text/html:<!DOCTYPE HTML PUBLIC "-//W3C//DTD HTML 3.2//E
 N"><HTML></HTML>
CREATED;TZID=America/New_York:20260218T083246
URL;VALUE=URI:https://benning.armymwr.com/calendar/event
DTSTART;TZID=America/New_York:20260404T100000
DTEND;TZID=America/New_York:20260404T140000
SEQUENCE:1
END:VEVENT
BEGIN:VEVENT
UID:sabre-vobject-889c0e98-329b-4162-ba06-eb45180ecd82
DTSTAMP:20260424T082345Z
SUMMARY:3D Archery Tournament 
DESCRIPTION:
X-ALT-DESC:FMTTYPE=text/html:<!DOCTYPE HTML PUBLIC "-//W3C//DTD HTML 3.2//E
 N"><HTML></HTML>
CREATED;TZID=America/New_York:20260218T083246
URL;VALUE=URI:https://benning.armymwr.com/calendar/event
DTSTART;TZID=America/New_York:20260516T100000
DTEND;TZID=America/New_York:20260516T140000
SEQUENCE:2
END:VEVENT
BEGIN:VEVENT
UID:sabre-vobject-d46f2600-cc61-4cbc-a452-e4d49b323834
DTSTAMP:20260424T082345Z
SUMMARY:3D Archery Tournament 
DESCRIPTION:
X-ALT-DESC:FMTTYPE=text/html:<!DOCTYPE HTML PUBLIC "-//W3C//DTD HTML 3.2//E
 N"><HTML></HTML>
CREATED;TZID=America/New_York:20260218T083246
URL;VALUE=URI:https://benning.armymwr.com/calendar/event
DTSTART;TZID=America/New_York:20260613T100000
DTEND;TZID=America/New_York:20260613T140000
SEQUENCE:3
END:VEVENT
BEGIN:VEVENT
UID:sabre-vobject-9255b1a4-68ca-4f76-9724-38eb9efeebab
DTSTAMP:20260424T082345Z
SUMMARY:3D Archery Tournament 
DESCRIPTION:
X-ALT-DESC:FMTTYPE=text/html:<!DOCTYPE HTML PUBLIC "-//W3C//DTD HTML 3.2//E
 N"><HTML></HTML>
CREATED;TZID=America/New_York:20260218T083246
URL;VALUE=URI:https://benning.armymwr.com/calendar/event
DTSTART;TZID=America/New_York:20260725T100000
DTEND;TZID=America/New_York:20260725T140000
SEQUENCE:4
END:VEVENT
BEGIN:VEVENT
UID:sabre-vobject-6ffc6c7a-dde5-4685-a850-12ef01344158
DTSTAMP:20260424T082345Z
SUMMARY:3D Archery Tournament 
DESCRIPTION:
X-ALT-DESC:FMTTYPE=text/html:<!DOCTYPE HTML PUBLIC "-//W3C//DTD HTML 3.2//E
 N"><HTML></HTML>
CREATED;TZID=America/New_York:20260218T083246
URL;VALUE=URI:https://benning.armymwr.com/calendar/event
DTSTART;TZID=America/New_York:20260829T100000
DTEND;TZID=America/New_York:20260829T140000
SEQUENCE:5
END:VEVENT
END:VCALENDAR
