BEGIN:VCALENDAR
VERSION:2.0
PRODID:-//Sabre//Sabre VObject 4.5.8//EN
CALSCALE:GREGORIAN
BEGIN:VEVENT
UID:sabre-vobject-5f78acff-7827-441e-a5ed-3e79cb7b1487
DTSTAMP:20260420T121928Z
SUMMARY:Right Arm Night
DESCRIPTION:
X-ALT-DESC:FMTTYPE=text/html:<!DOCTYPE HTML PUBLIC "-//W3C//DTD HTML 3.2//E
 N"><HTML></HTML>
CREATED;TZID=America/New_York:20260317T152506
URL;VALUE=URI:https://benning.armymwr.com/calendar/event
DTSTART;TZID=America/New_York:20260219T160000
DTEND;TZID=America/New_York:20260219T170000
SEQUENCE:0
END:VEVENT
BEGIN:VEVENT
UID:sabre-vobject-f8be9073-282c-40a7-90f4-07604341a503
DTSTAMP:20260420T121928Z
SUMMARY:Right Arm Night
DESCRIPTION:
X-ALT-DESC:FMTTYPE=text/html:<!DOCTYPE HTML PUBLIC "-//W3C//DTD HTML 3.2//E
 N"><HTML></HTML>
CREATED;TZID=America/New_York:20260317T152506
URL;VALUE=URI:https://benning.armymwr.com/calendar/event
DTSTART;TZID=America/New_York:20260319T160000
DTEND;TZID=America/New_York:20260319T170000
SEQUENCE:1
END:VEVENT
BEGIN:VEVENT
UID:sabre-vobject-33682b14-b10b-487e-a7a8-235430215cd1
DTSTAMP:20260420T121928Z
SUMMARY:Right Arm Night
DESCRIPTION:
X-ALT-DESC:FMTTYPE=text/html:<!DOCTYPE HTML PUBLIC "-//W3C//DTD HTML 3.2//E
 N"><HTML></HTML>
CREATED;TZID=America/New_York:20260317T152506
URL;VALUE=URI:https://benning.armymwr.com/calendar/event
DTSTART;TZID=America/New_York:20260416T160000
DTEND;TZID=America/New_York:20260416T170000
SEQUENCE:2
END:VEVENT
BEGIN:VEVENT
UID:sabre-vobject-32b8ee5b-3ed3-4fe6-9825-ccb1ca59ba29
DTSTAMP:20260420T121928Z
SUMMARY:Right Arm Night
DESCRIPTION:
X-ALT-DESC:FMTTYPE=text/html:<!DOCTYPE HTML PUBLIC "-//W3C//DTD HTML 3.2//E
 N"><HTML></HTML>
CREATED;TZID=America/New_York:20260317T152506
URL;VALUE=URI:https://benning.armymwr.com/calendar/event
DTSTART;TZID=America/New_York:20260521T160000
DTEND;TZID=America/New_York:20260521T170000
SEQUENCE:3
END:VEVENT
END:VCALENDAR
