BEGIN:VCALENDAR
VERSION:2.0
PRODID:-//Sabre//Sabre VObject 4.5.8//EN
CALSCALE:GREGORIAN
BEGIN:VEVENT
UID:sabre-vobject-a5adc2ff-7b8a-41aa-b5e3-fc34f6df3f6d
DTSTAMP:20260421T160953Z
SUMMARY:Shamrocks and Support: Finding Strength in Community
DESCRIPTION:
X-ALT-DESC:FMTTYPE=text/html:<!DOCTYPE HTML PUBLIC "-//W3C//DTD HTML 3.2//E
 N"><HTML></HTML>
CREATED;TZID=America/New_York:20260106T102429
URL;VALUE=URI:https://benning.armymwr.com/calendar/event
DTSTART;TZID=America/New_York:20260317T170000
DTEND;TZID=America/New_York:20260317T180000
SEQUENCE:0
END:VEVENT
END:VCALENDAR
