BEGIN:VCALENDAR
VERSION:2.0
PRODID:-//Sabre//Sabre VObject 4.5.8//EN
CALSCALE:GREGORIAN
BEGIN:VEVENT
UID:sabre-vobject-63ac9325-376d-434e-8b92-9c05784b0ab7
DTSTAMP:20260422T070548Z
SUMMARY:Outdoor Skills Camp(s)
DESCRIPTION:
X-ALT-DESC:FMTTYPE=text/html:<!DOCTYPE HTML PUBLIC "-//W3C//DTD HTML 3.2//E
 N"><HTML></HTML>
CREATED;TZID=America/New_York:20260115T130239
URL;VALUE=URI:https://benning.armymwr.com/calendar/event
DTSTART;TZID=America/New_York:20260205T170000
DTEND;TZID=America/New_York:20260205T180000
SEQUENCE:0
END:VEVENT
BEGIN:VEVENT
UID:sabre-vobject-baffd49d-a97f-4e4f-9666-1dbd4303ff88
DTSTAMP:20260422T070548Z
SUMMARY:Outdoor Skills Camp(s)
DESCRIPTION:
X-ALT-DESC:FMTTYPE=text/html:<!DOCTYPE HTML PUBLIC "-//W3C//DTD HTML 3.2//E
 N"><HTML></HTML>
CREATED;TZID=America/New_York:20260115T130239
URL;VALUE=URI:https://benning.armymwr.com/calendar/event
DTSTART;TZID=America/New_York:20260219T170000
DTEND;TZID=America/New_York:20260219T180000
SEQUENCE:1
END:VEVENT
BEGIN:VEVENT
UID:sabre-vobject-cf4fcef3-6419-4b16-bce3-4bf72cdefa23
DTSTAMP:20260422T070548Z
SUMMARY:Outdoor Skills Camp(s)
DESCRIPTION:
X-ALT-DESC:FMTTYPE=text/html:<!DOCTYPE HTML PUBLIC "-//W3C//DTD HTML 3.2//E
 N"><HTML></HTML>
CREATED;TZID=America/New_York:20260115T130239
URL;VALUE=URI:https://benning.armymwr.com/calendar/event
DTSTART;TZID=America/New_York:20260305T170000
DTEND;TZID=America/New_York:20260305T180000
SEQUENCE:2
END:VEVENT
END:VCALENDAR
