BEGIN:VCALENDAR
VERSION:2.0
PRODID:-//Sabre//Sabre VObject 4.5.8//EN
CALSCALE:GREGORIAN
BEGIN:VEVENT
UID:sabre-vobject-ee18ac35-a6cf-4732-88d5-e0a37655a4a5
DTSTAMP:20260425T121242Z
SUMMARY:Commander's Cup Bowling: Coaches Meeting
DESCRIPTION:
X-ALT-DESC:FMTTYPE=text/html:<!DOCTYPE HTML PUBLIC "-//W3C//DTD HTML 3.2//E
 N"><HTML></HTML>
CREATED;TZID=America/New_York:20260306T094311
URL;VALUE=URI:https://benning.armymwr.com/calendar/event
DTSTART;TZID=America/New_York:20260811T130000
DTEND;TZID=America/New_York:20260811T140000
SEQUENCE:0
END:VEVENT
END:VCALENDAR
