BEGIN:VCALENDAR
VERSION:2.0
PRODID:-//Sabre//Sabre VObject 4.5.8//EN
CALSCALE:GREGORIAN
BEGIN:VEVENT
UID:sabre-vobject-d91c9a78-d5d6-445b-a8ae-321f8a3f5a00
DTSTAMP:20260422T180224Z
SUMMARY:Commander's Cup Soccer: Coaches Meeting
DESCRIPTION:
X-ALT-DESC:FMTTYPE=text/html:<!DOCTYPE HTML PUBLIC "-//W3C//DTD HTML 3.2//E
 N"><HTML></HTML>
CREATED;TZID=America/New_York:20251222T085207
URL;VALUE=URI:https://benning.armymwr.com/calendar/event
DTSTART;TZID=America/New_York:20260310T130000
DTEND;TZID=America/New_York:20260310T140000
SEQUENCE:0
END:VEVENT
END:VCALENDAR
