BEGIN:VCALENDAR
VERSION:2.0
PRODID:-//Sabre//Sabre VObject 4.5.8//EN
CALSCALE:GREGORIAN
BEGIN:VEVENT
UID:sabre-vobject-953f21c8-9fd6-4c19-80c3-78079d17afbf
DTSTAMP:20260424T050727Z
SUMMARY:Teens Taking a Stand
DESCRIPTION:
X-ALT-DESC:FMTTYPE=text/html:<!DOCTYPE HTML PUBLIC "-//W3C//DTD HTML 3.2//E
 N"><HTML></HTML>
CREATED;TZID=America/New_York:20251229T144059
URL;VALUE=URI:https://benning.armymwr.com/calendar/event
DTSTART;TZID=America/New_York:20260210T140000
DTEND;TZID=America/New_York:20260210T153000
SEQUENCE:0
END:VEVENT
END:VCALENDAR
