BEGIN:VCALENDAR
VERSION:2.0
PRODID:-//Sabre//Sabre VObject 4.5.8//EN
CALSCALE:GREGORIAN
BEGIN:VEVENT
UID:sabre-vobject-0ca6c39b-6fba-4ee2-9bfe-9cfdde8843df
DTSTAMP:20260420T194909Z
SUMMARY:Babysitting Basics Course
DESCRIPTION:
X-ALT-DESC:FMTTYPE=text/html:<!DOCTYPE HTML PUBLIC "-//W3C//DTD HTML 3.2//E
 N"><HTML></HTML>
CREATED;TZID=America/New_York:20251218T120701
URL;VALUE=URI:https://benning.armymwr.com/calendar/event
DTSTART;TZID=America/New_York:20260105T083000
DTEND;TZID=America/New_York:20260105T170000
SEQUENCE:0
END:VEVENT
BEGIN:VEVENT
UID:sabre-vobject-fbcc12b3-d384-441d-9a9c-b994e100a995
DTSTAMP:20260420T194909Z
SUMMARY:Babysitting Basics Course
DESCRIPTION:
X-ALT-DESC:FMTTYPE=text/html:<!DOCTYPE HTML PUBLIC "-//W3C//DTD HTML 3.2//E
 N"><HTML></HTML>
CREATED;TZID=America/New_York:20251218T120701
URL;VALUE=URI:https://benning.armymwr.com/calendar/event
DTSTART;TZID=America/New_York:20260213T083000
DTEND;TZID=America/New_York:20260213T170000
SEQUENCE:1
END:VEVENT
BEGIN:VEVENT
UID:sabre-vobject-746acaea-1261-4456-a13a-11baf36545f2
DTSTAMP:20260420T194909Z
SUMMARY:Babysitting Basics Course
DESCRIPTION:
X-ALT-DESC:FMTTYPE=text/html:<!DOCTYPE HTML PUBLIC "-//W3C//DTD HTML 3.2//E
 N"><HTML></HTML>
CREATED;TZID=America/New_York:20251218T120701
URL;VALUE=URI:https://benning.armymwr.com/calendar/event
DTSTART;TZID=America/New_York:20260401T083000
DTEND;TZID=America/New_York:20260401T170000
SEQUENCE:2
END:VEVENT
BEGIN:VEVENT
UID:sabre-vobject-fcd8e024-e69c-4b4a-a548-084cf5e6d488
DTSTAMP:20260420T194909Z
SUMMARY:Babysitting Basics Course
DESCRIPTION:
X-ALT-DESC:FMTTYPE=text/html:<!DOCTYPE HTML PUBLIC "-//W3C//DTD HTML 3.2//E
 N"><HTML></HTML>
CREATED;TZID=America/New_York:20251218T120701
URL;VALUE=URI:https://benning.armymwr.com/calendar/event
DTSTART;TZID=America/New_York:20260613T083000
DTEND;TZID=America/New_York:20260613T170000
SEQUENCE:3
END:VEVENT
END:VCALENDAR
