BEGIN:VCALENDAR
VERSION:2.0
PRODID:-//Sabre//Sabre VObject 4.5.8//EN
CALSCALE:GREGORIAN
BEGIN:VEVENT
UID:sabre-vobject-9a1d9a37-b604-4193-b838-964877cb8e7e
DTSTAMP:20260419T184906Z
SUMMARY:Run to Remember 5K
DESCRIPTION:
X-ALT-DESC:FMTTYPE=text/html:<!DOCTYPE HTML PUBLIC "-//W3C//DTD HTML 3.2//E
 N"><HTML></HTML>
CREATED;TZID=America/New_York:20251125T150216
URL;VALUE=URI:https://benning.armymwr.com/calendar/event
DTSTART;TZID=America/New_York:20260516T080000
DTEND;TZID=America/New_York:20260516T090000
SEQUENCE:0
END:VEVENT
END:VCALENDAR
