BEGIN:VCALENDAR
VERSION:2.0
PRODID:-//Sabre//Sabre VObject 4.5.8//EN
CALSCALE:GREGORIAN
BEGIN:VEVENT
UID:sabre-vobject-9dc9dae3-3d99-4ed1-b045-6e1247303399
DTSTAMP:20260420T052247Z
SUMMARY:Super Bingo
DESCRIPTION:
X-ALT-DESC:FMTTYPE=text/html:<!DOCTYPE HTML PUBLIC "-//W3C//DTD HTML 3.2//E
 N"><HTML></HTML>
CREATED;TZID=America/New_York:20250926T092733
URL;VALUE=URI:https://benning.armymwr.com/calendar/event
DTSTART;TZID=America/New_York:20251004T110000
DTEND;TZID=America/New_York:20251004T120000
SEQUENCE:0
END:VEVENT
BEGIN:VEVENT
UID:sabre-vobject-bf5e7afb-57ab-4acc-bf47-44e75adf3ed9
DTSTAMP:20260420T052247Z
SUMMARY:Super Bingo
DESCRIPTION:
X-ALT-DESC:FMTTYPE=text/html:<!DOCTYPE HTML PUBLIC "-//W3C//DTD HTML 3.2//E
 N"><HTML></HTML>
CREATED;TZID=America/New_York:20250926T092733
URL;VALUE=URI:https://benning.armymwr.com/calendar/event
DTSTART;TZID=America/New_York:20251101T110000
DTEND;TZID=America/New_York:20251101T120000
SEQUENCE:1
END:VEVENT
BEGIN:VEVENT
UID:sabre-vobject-3b1b3601-c600-4d73-a329-ea81be1c03ed
DTSTAMP:20260420T052247Z
SUMMARY:Super Bingo
DESCRIPTION:
X-ALT-DESC:FMTTYPE=text/html:<!DOCTYPE HTML PUBLIC "-//W3C//DTD HTML 3.2//E
 N"><HTML></HTML>
CREATED;TZID=America/New_York:20250926T092733
URL;VALUE=URI:https://benning.armymwr.com/calendar/event
DTSTART;TZID=America/New_York:20260207T110000
DTEND;TZID=America/New_York:20260207T120000
SEQUENCE:2
END:VEVENT
BEGIN:VEVENT
UID:sabre-vobject-803924c7-1853-4b3d-a450-84eee81d6dba
DTSTAMP:20260420T052247Z
SUMMARY:Super Bingo
DESCRIPTION:
X-ALT-DESC:FMTTYPE=text/html:<!DOCTYPE HTML PUBLIC "-//W3C//DTD HTML 3.2//E
 N"><HTML></HTML>
CREATED;TZID=America/New_York:20250926T092733
URL;VALUE=URI:https://benning.armymwr.com/calendar/event
DTSTART;TZID=America/New_York:20260307T110000
DTEND;TZID=America/New_York:20260307T120000
SEQUENCE:3
END:VEVENT
BEGIN:VEVENT
UID:sabre-vobject-6137a970-cf05-4320-8851-52d3c9599afc
DTSTAMP:20260420T052247Z
SUMMARY:Super Bingo
DESCRIPTION:
X-ALT-DESC:FMTTYPE=text/html:<!DOCTYPE HTML PUBLIC "-//W3C//DTD HTML 3.2//E
 N"><HTML></HTML>
CREATED;TZID=America/New_York:20250926T092733
URL;VALUE=URI:https://benning.armymwr.com/calendar/event
DTSTART;TZID=America/New_York:20260404T110000
DTEND;TZID=America/New_York:20260404T120000
SEQUENCE:4
END:VEVENT
BEGIN:VEVENT
UID:sabre-vobject-87e38175-f214-4781-aaa6-c92e312111a0
DTSTAMP:20260420T052247Z
SUMMARY:Super Bingo
DESCRIPTION:
X-ALT-DESC:FMTTYPE=text/html:<!DOCTYPE HTML PUBLIC "-//W3C//DTD HTML 3.2//E
 N"><HTML></HTML>
CREATED;TZID=America/New_York:20250926T092733
URL;VALUE=URI:https://benning.armymwr.com/calendar/event
DTSTART;TZID=America/New_York:20260502T110000
DTEND;TZID=America/New_York:20260502T120000
SEQUENCE:5
END:VEVENT
BEGIN:VEVENT
UID:sabre-vobject-fbf5331d-7485-4c35-963f-0cfabf95ef0a
DTSTAMP:20260420T052247Z
SUMMARY:Super Bingo
DESCRIPTION:
X-ALT-DESC:FMTTYPE=text/html:<!DOCTYPE HTML PUBLIC "-//W3C//DTD HTML 3.2//E
 N"><HTML></HTML>
CREATED;TZID=America/New_York:20250926T092733
URL;VALUE=URI:https://benning.armymwr.com/calendar/event
DTSTART;TZID=America/New_York:20260606T110000
DTEND;TZID=America/New_York:20260606T120000
SEQUENCE:6
END:VEVENT
BEGIN:VEVENT
UID:sabre-vobject-d98b17fc-c64d-4864-ba59-a5edbd65111f
DTSTAMP:20260420T052247Z
SUMMARY:Super Bingo
DESCRIPTION:
X-ALT-DESC:FMTTYPE=text/html:<!DOCTYPE HTML PUBLIC "-//W3C//DTD HTML 3.2//E
 N"><HTML></HTML>
CREATED;TZID=America/New_York:20250926T092733
URL;VALUE=URI:https://benning.armymwr.com/calendar/event
DTSTART;TZID=America/New_York:20260704T110000
DTEND;TZID=America/New_York:20260704T120000
SEQUENCE:7
END:VEVENT
BEGIN:VEVENT
UID:sabre-vobject-0cc1df49-34df-4eb7-9c4c-14b2affa57a8
DTSTAMP:20260420T052247Z
SUMMARY:Super Bingo
DESCRIPTION:
X-ALT-DESC:FMTTYPE=text/html:<!DOCTYPE HTML PUBLIC "-//W3C//DTD HTML 3.2//E
 N"><HTML></HTML>
CREATED;TZID=America/New_York:20250926T092733
URL;VALUE=URI:https://benning.armymwr.com/calendar/event
DTSTART;TZID=America/New_York:20260801T110000
DTEND;TZID=America/New_York:20260801T120000
SEQUENCE:8
END:VEVENT
BEGIN:VEVENT
UID:sabre-vobject-7af25b74-baec-4fd5-9053-9421f7ff7017
DTSTAMP:20260420T052247Z
SUMMARY:Super Bingo
DESCRIPTION:
X-ALT-DESC:FMTTYPE=text/html:<!DOCTYPE HTML PUBLIC "-//W3C//DTD HTML 3.2//E
 N"><HTML></HTML>
CREATED;TZID=America/New_York:20250926T092733
URL;VALUE=URI:https://benning.armymwr.com/calendar/event
DTSTART;TZID=America/New_York:20260905T110000
DTEND;TZID=America/New_York:20260905T120000
SEQUENCE:9
END:VEVENT
END:VCALENDAR
