BEGIN:VCALENDAR
VERSION:2.0
PRODID:-//Sabre//Sabre VObject 4.5.8//EN
CALSCALE:GREGORIAN
BEGIN:VEVENT
UID:sabre-vobject-9cc30145-69fe-4465-afcd-1c8a2218965c
DTSTAMP:20260420T052248Z
SUMMARY:Community Information Exchange
DESCRIPTION:
X-ALT-DESC:FMTTYPE=text/html:<!DOCTYPE HTML PUBLIC "-//W3C//DTD HTML 3.2//E
 N"><HTML></HTML>
CREATED;TZID=America/New_York:20260407T131916
URL;VALUE=URI:https://benning.armymwr.com/calendar/event
DTSTART;TZID=America/New_York:20250812T100000
DTEND;TZID=America/New_York:20250812T113000
SEQUENCE:0
END:VEVENT
BEGIN:VEVENT
UID:sabre-vobject-f36d03de-e382-41f1-b378-3e7612dc1df2
DTSTAMP:20260420T052248Z
SUMMARY:Community Information Exchange
DESCRIPTION:
X-ALT-DESC:FMTTYPE=text/html:<!DOCTYPE HTML PUBLIC "-//W3C//DTD HTML 3.2//E
 N"><HTML></HTML>
CREATED;TZID=America/New_York:20260407T131916
URL;VALUE=URI:https://benning.armymwr.com/calendar/event
DTSTART;TZID=America/New_York:20250902T100000
DTEND;TZID=America/New_York:20250902T113000
SEQUENCE:1
END:VEVENT
BEGIN:VEVENT
UID:sabre-vobject-8f45c244-a1d0-40b7-bb3e-ee07c575f1c8
DTSTAMP:20260420T052248Z
SUMMARY:Community Information Exchange
DESCRIPTION:
X-ALT-DESC:FMTTYPE=text/html:<!DOCTYPE HTML PUBLIC "-//W3C//DTD HTML 3.2//E
 N"><HTML></HTML>
CREATED;TZID=America/New_York:20260407T131916
URL;VALUE=URI:https://benning.armymwr.com/calendar/event
DTSTART;TZID=America/New_York:20260414T100000
DTEND;TZID=America/New_York:20260414T113000
SEQUENCE:2
END:VEVENT
BEGIN:VEVENT
UID:sabre-vobject-9d036c66-6a81-4b5e-b758-188ec24d2165
DTSTAMP:20260420T052248Z
SUMMARY:Community Information Exchange
DESCRIPTION:
X-ALT-DESC:FMTTYPE=text/html:<!DOCTYPE HTML PUBLIC "-//W3C//DTD HTML 3.2//E
 N"><HTML></HTML>
CREATED;TZID=America/New_York:20260407T131916
URL;VALUE=URI:https://benning.armymwr.com/calendar/event
DTSTART;TZID=America/New_York:20260512T100000
DTEND;TZID=America/New_York:20260512T113000
SEQUENCE:3
END:VEVENT
END:VCALENDAR
